BEGIN:VCALENDAR
VERSION:2.0
PRODID:-//UK4Students - ECPv6.0.12//NONSGML v1.0//EN
CALSCALE:GREGORIAN
METHOD:PUBLISH
X-ORIGINAL-URL:https://uk4students.com
X-WR-CALDESC:Events for UK4Students
REFRESH-INTERVAL;VALUE=DURATION:PT1H
X-Robots-Tag:noindex
X-PUBLISHED-TTL:PT1H
BEGIN:VTIMEZONE
TZID:UTC
BEGIN:STANDARD
TZOFFSETFROM:+0000
TZOFFSETTO:+0000
TZNAME:UTC
DTSTART:20230101T000000
END:STANDARD
TZID:Europe/London
BEGIN:DAYLIGHT
TZOFFSETFROM:+0000
TZOFFSETTO:+0100
TZNAME:BST
DTSTART:20230326T010000
END:DAYLIGHT
BEGIN:STANDARD
TZOFFSETFROM:+0100
TZOFFSETTO:+0000
TZNAME:GMT
DTSTART:20231029T010000
END:STANDARD
END:VTIMEZONE
BEGIN:VEVENT
DTSTART;TZID=UTC:20230721T120000
DTEND;TZID=UTC:20230723T170000
DTSTAMP:20260422T140338
CREATED:20230415T102426Z
LAST-MODIFIED:20230415T102426Z
UID:2463-1689940800-1690131600@uk4students.com
SUMMARY:Hyper Japan
DESCRIPTION:Your journey to Japan in the heart of London!
URL:https://uk4students.com/events/hyper-japan/
LOCATION:Olympia\, Hammersmith Road\, London\, W14 8UX\, United Kingdom
CATEGORIES:Japanese culture in UK
ATTACH;FMTTYPE=image/jpeg:https://uk4students.com/wp-content/uploads/2023/04/HyperJapan-2023.jpeg
END:VEVENT
BEGIN:VEVENT
DTSTART;TZID=Europe/London:20230729T100000
DTEND;TZID=Europe/London:20230730T173000
DTSTAMP:20260422T140339
CREATED:20230715T113817Z
LAST-MODIFIED:20230715T113817Z
UID:2559-1690624800-1690738200@uk4students.com
SUMMARY:Portsmouth International Kite Festival 2023
DESCRIPTION:A truly spectacular event with hundreds of kite fliers from around the world. The theme for 2023 is “East meets West” and will provide the opportunity to showcase kites from the many expert fliers focusing on kites about and from the East.
URL:https://uk4students.com/events/portsmouth-international-kite-festival-2023/
LOCATION:Southsea Common\, Southsea Common\, Portsmouth\, PO5 3PB\, United Kingdom
CATEGORIES:culture
ATTACH;FMTTYPE=image/jpeg:https://uk4students.com/wp-content/uploads/2023/07/12-2-2000x2667-800x1067-1.jpg
END:VEVENT
END:VCALENDAR