BEGIN:VCALENDAR
VERSION:2.0
PRODID:-//UK4Students - ECPv6.0.12//NONSGML v1.0//EN
CALSCALE:GREGORIAN
METHOD:PUBLISH
X-WR-CALNAME:UK4Students
X-ORIGINAL-URL:https://uk4students.com
X-WR-CALDESC:Events for UK4Students
REFRESH-INTERVAL;VALUE=DURATION:PT1H
X-Robots-Tag:noindex
X-PUBLISHED-TTL:PT1H
BEGIN:VTIMEZONE
TZID:Europe/London
BEGIN:DAYLIGHT
TZOFFSETFROM:+0000
TZOFFSETTO:+0100
TZNAME:BST
DTSTART:20240331T010000
END:DAYLIGHT
BEGIN:STANDARD
TZOFFSETFROM:+0100
TZOFFSETTO:+0000
TZNAME:GMT
DTSTART:20241027T010000
END:STANDARD
TZID:UTC
BEGIN:STANDARD
TZOFFSETFROM:+0000
TZOFFSETTO:+0000
TZNAME:UTC
DTSTART:20240101T000000
END:STANDARD
END:VTIMEZONE
BEGIN:VEVENT
DTSTART;VALUE=DATE:20240518
DTEND;VALUE=DATE:20240520
DTSTAMP:20260422T223629
CREATED:20240515T102209Z
LAST-MODIFIED:20240515T102209Z
UID:4280-1715990400-1716163199@uk4students.com
SUMMARY:Magic of Thailand Festival - Poole 2024
DESCRIPTION:Treat yourself to a weekend wonder and bring along your families and friends to experience a touch of Thai culture. \nThai food\, arts and crafts\, watch traditional Thai dances\, Thai boxing (Muay Thai) demonstrations\, ladyboy shows\, Thai massage\, \n‘I’m British\, Get me out of here’ competition\, Thai beer garden and more….
URL:https://uk4students.com/events/magic-of-thailand-festival-poole-2024/
LOCATION:Harbourside Park\, Harbourside Park\, Poole\, Dorset\, BH15 1UX\, United Kingdom
CATEGORIES:Thai culture in UK
ATTACH;FMTTYPE=image/png:https://uk4students.com/wp-content/uploads/2024/05/logo.png
END:VEVENT
BEGIN:VEVENT
DTSTART;TZID=UTC:20240706T100000
DTEND;TZID=UTC:20240707T190000
DTSTAMP:20260422T223629
CREATED:20240515T101502Z
LAST-MODIFIED:20240515T101502Z
UID:3347-1720260000-1720378800@uk4students.com
SUMMARY:Southampton Thai Festival
DESCRIPTION:Want to feel like you’re in Thailand for the weekend? Come along to the Southampton Thai Festival! It’s an annual family-friendly culture festival involving delicious Thai food\, incredible Thai Dancing\, Thai boxing and so much more. Located in the heart of Southampton\, whether if you’re looking for an event to kickback in the sun with a Thai beer or somewhere fun for the kids to enjoy a fun fair\, we’ll be in Hogland’s Park! \nTickets can be bought in advance or on the day at the entrance gate.\nNo ​food or alcohol is ​permitted on entry.\nDogs on leads are welcome.
URL:https://uk4students.com/events/southampton-thai-festival-2/
LOCATION:Hoglands Park\, Hoglands Park\, Southampton\, SO14 1JZ
CATEGORIES:Thai culture in UK
ATTACH;FMTTYPE=image/jpeg:https://uk4students.com/wp-content/uploads/2024/03/Southampton-Festival-logo.jpeg
ORGANIZER;CN="Southampton%20Thai%20Festival":MAILTO:Thaifestival.soton@gmail.com
END:VEVENT
END:VCALENDAR