BEGIN:VCALENDAR
VERSION:2.0
PRODID:-//UK4Students - ECPv6.0.12//NONSGML v1.0//EN
CALSCALE:GREGORIAN
METHOD:PUBLISH
X-WR-CALNAME:UK4Students
X-ORIGINAL-URL:https://uk4students.com
X-WR-CALDESC:Events for UK4Students
REFRESH-INTERVAL;VALUE=DURATION:PT1H
X-Robots-Tag:noindex
X-PUBLISHED-TTL:PT1H
BEGIN:VTIMEZONE
TZID:UTC
BEGIN:STANDARD
TZOFFSETFROM:+0000
TZOFFSETTO:+0000
TZNAME:UTC
DTSTART:20230101T000000
END:STANDARD
END:VTIMEZONE
BEGIN:VEVENT
DTSTART;VALUE=DATE:20230831
DTEND;VALUE=DATE:20230904
DTSTAMP:20260426T033848
CREATED:20220609T152359Z
LAST-MODIFIED:20230320T151016Z
UID:1952-1693440000-1693785599@uk4students.com
SUMMARY:Bournemouth Air Festival 2023
DESCRIPTION:Details to follow …
URL:https://uk4students.com/events/bournemouth-air-festival-2022/
LOCATION:Bournemouth\, Bournemouth\, BH2 5AA\, United Kingdom
ATTACH;FMTTYPE=image/jpeg:https://uk4students.com/wp-content/uploads/2022/06/Red-Arrows-CREDIT-Bournemouth-Air-Festival-scaled-1.jpg
END:VEVENT
END:VCALENDAR