BEGIN:VCALENDAR
VERSION:2.0
PRODID:-//UK4Students - ECPv6.0.12//NONSGML v1.0//EN
CALSCALE:GREGORIAN
METHOD:PUBLISH
X-WR-CALNAME:UK4Students
X-ORIGINAL-URL:https://uk4students.com
X-WR-CALDESC:Events for UK4Students
REFRESH-INTERVAL;VALUE=DURATION:PT1H
X-Robots-Tag:noindex
X-PUBLISHED-TTL:PT1H
BEGIN:VTIMEZONE
TZID:UTC
BEGIN:STANDARD
TZOFFSETFROM:+0000
TZOFFSETTO:+0000
TZNAME:UTC
DTSTART:20230101T000000
END:STANDARD
END:VTIMEZONE
BEGIN:VEVENT
DTSTART;TZID=UTC:20230204T153000
DTEND;TZID=UTC:20230204T200000
DTSTAMP:20260423T020821
CREATED:20230201T110959Z
LAST-MODIFIED:20230201T120248Z
UID:2294-1675524600-1675540800@uk4students.com
SUMMARY:Southampton Chinese Lantern Festival
DESCRIPTION:  \nThe Chinese Lantern Festival in Southampton marks the official closing of the 2023 Chinese New Year Celebrations Year of the Rabbit. Like many Chinese New Year customs\, the Lantern Festival promotes togetherness; where family and friends reunite amidst the glow of many lanterns. This year UK Shaolin and the WeCommunity brings these beloved celebrations to Southampton City. \nJoin us our Chinese Lantern Festival celebration from 15:30pm – 17:00pm at Southampton Guildhall Square on Saturday 4th February 2023. The festivities continue at UK Shaolin Centre (Marlands Shopping Centre – 2mins walk from Guildhall Square) with a live performance of Chinese Dance\, Lion Dance\, Music\, and Shaolin Kung Fu from 18:00pm – 20:00. Purchase your ticket for the live show from the link shown \n2023 is the Year of the Water Rabbit and its animal symbolises a calm energy\, and an easy-going nature. Our festivities pay homage to the rabbit’s attributes by sharing ways to ease into the new year\, as well as\, celebrating all of the fun of the holiday. There will be plenty of activities for people of all ages to enjoy and we can’t wait to share more with you very soon. \nSouthampton Chinese Lantern festival is hosting a colourful lanterns display for everyone to experience and enjoy the occasion. \nAt our celebrations\, we have many activities and workshops\, as well as\, spectacular demonstrations including traditional lion and dragon dance\, food and drink stores\, arts and crafts\, the celebration also features other workshops to boost your inspiration and mental health including arts\, meditation\, and Qi Gong workshops and a special Chinese noodle workshop.
URL:https://uk4students.com/events/southampton-chinese-lantern-festival/
LOCATION:Guildhall Square and UK Shaolin Centre
CATEGORIES:culture
ATTACH;FMTTYPE=image/jpeg:https://uk4students.com/wp-content/uploads/2023/02/Southampton-Chinese-Lantern-Festival-2023.jpg
END:VEVENT
END:VCALENDAR